BEGIN:VCALENDAR
VERSION:2.0
PRODID:-//wp-events-plugin.com//7.0.4//EN
TZID:America/New_York
X-WR-TIMEZONE:America/New_York
BEGIN:VEVENT
UID:3991@novaeventmanagement.com
DTSTART;TZID=America/New_York;VALUE=DATE:20260425
DTEND;TZID=America/New_York;VALUE=DATE:20260426
DTSTAMP:20260420T135421Z
URL:https://www.novaeventmanagement.com/events/5th-annual-flyin-hawaiian-v
 olleyball-cornhole-tournament-3/
SUMMARY:7th Annual FLYIN HAWAIIAN Volleyball/Euchre Tournament
DESCRIPTION:\n\n&nbsp\;\nPlease join us for the 7th annual Flyin’ Hawaiia
 n tournament fundraiser in memory of Kimo Kannana.\n&nbsp\;\nThis year we 
 are offering lower and upper level coed 2s in the morning. And lower and u
 pper level coed 4s in the afternoon. This event always books up fast so do
 n’t wait and get your team together now! Teams may be moved up or down b
 ased on skill and level of teams that sign up.\n&nbsp\;\nWe are also going
  to be hosting a Euchre tournament starting at 5pm to offer something diff
 erent for those who maybe do not play volleyball but want to be part of th
 e fun and help donate to this worthy cause.\n&nbsp\;\nThere will be plenty
  of raffles and 50/50 available all day. This is always a great event so d
 on’t miss out and help us reach our fundraising goal! As always\, all pr
 oceeds from this event will be donated to The American Foundation for Suic
 ide Prevention in Kimo's name.\n&nbsp\;\nThank you all for the continued s
 upport!!\nThe NOVA Fee is not required for this event.\n\n 	Upper Coed 2's
  is now full!! We just opened up 2 more lower coed 2's spots. So\, sign up
  fast!\n\n&nbsp\;\n\nTeams as of: 4/20\n\n\n\nCoed Intermediate 2's\nJohn\
 nBacardi\n\n\nCoed Intermediate 2's\nKate\nBrown\n\n\nCoed Intermediate 2'
 s \nWesley\nSnipes\n\n\nCoed Intermediate 2's \nD\nFrank\n\n\nCoed Inter
 mediate 2's\nKara\nBalmer\n\n\nCoed Intermediate 2's\nKevin\nKaznica\n\n\n
 Coed Intermediate 2's \nMark\nHalecki\n\n\nCoed Intermediate 2's \nMaddi
 e\nKusminsky\n\n\nCoed Intermediate 2's\nAlexa\nS\n\n\nCoed Intermediate 2
 's\nTanios\nS\n\n\nCoed Intermediate 2's \nAmanda\nZetah\n\n\nCoed Interm
 ediate 2's \nKillian\nMelody\n\n\nCoed Intermediate 2's\nTj\nTortalianxee
 e\n\n\nCoed Intermediate 2's\nJillian\nRicci\n\n\nCoed Intermediate 2's \
 nNick\nErbland\n\n\nCoed Intermediate 2's \nLindsay\nO'Dell\n\n\nCoed Int
 ermediate 2's\nNicole\nBureau\n\n\nCoed Intermediate 2's\nDaniel\nHalecki\
 n\n\nCoed Intermediate 2's \nPedro\nC\n\n\nCoed Intermediate 2's \nHilar
 y\nDank\n\n\nCoed Intermediate 2's\nConner\nO\n\n\nCoed Intermediate 2's\n
 Lynn\nW\n\n\nCoed Intermediate 2's \nCooper\nMehlenbacher \n\n\nCoed Int
 ermediate 2's \nMel\nTurner\n\n\nCoed Intermediate 2's\nKenny\nCurtin\n\n
 \nCoed Intermediate 2's\nPaige\nReed\n\n\nCoed Intermediate 2's \nKenny\n
 S\n\n\nCoed Intermediate 2's \nLauren\nFemia\n\n\nCoed Intermediate 2's\n
 Kristen\nBurgos\n\n\nCoed Intermediate 2's\nMatt\nBurgos\n\n\n\n\n\n\nCoed
  Intermediate 2's \nSome\nDude \n\n\nCoed Intermediate 2's \nShawna\nRa
 e\n\n\nCoed Intermediate 2's\nChrissy\nAllen\n\n\nCoed Intermediate 2's\nM
 ike\nShade\n\n\n\n&nbsp\;\n\n\n\nCoed Upper Intermediate 2's\nShaun\nTurne
 r\n\n\nCoed Upper Intermediate 2's\nJenna\nSmith\n\n\n\n\n\n\nCoed Upper I
 ntermediate 2's \nKay\nP\n\n\nCoed Upper Intermediate 2's \nMarc\nMitran
 o\n\n\nCoed Upper Intermediate 2's\nbrit\n\n\n\nCoed Upper Intermediate 2'
 s\ndonnie\n\n\n\n\n\n\n\nCoed Upper Intermediate 2's \nDeclan\n\n\n\nCoed
  Upper Intermediate 2's \nSam\nG\n\n\nCoed Upper Intermediate 2's\nKrysta
 l\nS\n\n\nCoed Upper Intermediate 2's\nB\nNally\n\n\nCoed Upper Intermedia
 te 2's \nNick\nTartaglia\n\n\nCoed Upper Intermediate 2's \nTallis\nPola
 shenski\n\n\nCoed Upper Intermediate 2's\nChau\n\n\n\nCoed Upper Intermedi
 ate 2's\nBipo\n\n\n\n\n&nbsp\;\n\n\n\nIntermediate Coed 4's \nKate\nBrown
 \n\n\nIntermediate Coed 4's \nBen\nSummit \n\n\nIntermediate Coed 4's \
 nTim\nMastellar\n\n\nIntermediate Coed 4's \nKatie \nBaldwin\n\n\nInterm
 ediate Coed 4's\nKyle\nAnnis\n\n\nIntermediate Coed 4's\nMatt\nSharp\n\n\n
 Intermediate Coed 4's\nBritney\nSharp\n\n\nIntermediate Coed 4's\nEmily\nJ
 oselyn\n\n\nIntermediate Coed 4's \nMike\nPulver\n\n\nIntermediate Coed 4
 's \nBilly\nDeHond\n\n\nIntermediate Coed 4's \nKen\nShultes\n\n\nInterm
 ediate Coed 4's \nJess\nPulver\n\n\nIntermediate Coed 4's\nMaddie\nKusmin
 sky\n\n\nIntermediate Coed 4's\nJP\nErbland\n\n\nIntermediate Coed 4's\nAa
 ron\nNeininger\n\n\nIntermediate Coed 4's\nNick\nErbland\n\n\n\n\n\n\nInte
 rmediate Coed 4's \nMariah\nPatrizi \n\n\nIntermediate Coed 4's \nGav\n
 Record\n\n\nIntermediate Coed 4's \nKam\nRecord\n\n\nIntermediate Coed 4'
 s \nAlissa\nBorlaug \n\n\n\n\n\n\nIntermediate Coed 4's\nSelf\n\n\n\nInt
 ermediate Coed 4's\nMy\n\n\n\nIntermediate Coed 4's\nMe\n\n\n\nIntermediat
 e Coed 4's\nI\n\n\n\nIntermediate Coed 4's \nTbd\n\n\n\nIntermediate Coed
  4's \nTbd\n\n\n\nIntermediate Coed 4's \nAdam\nReese\n\n\nIntermediate 
 Coed 4's \n케빈\n카즈니카\n\n\nIntermediate Coed 4's\nVal\nVanHoese
 n\n\n\nIntermediate Coed 4's\nCalvin\nGonzalez\n\n\nIntermediate Coed 4's\
 nAlex\nJohnson\n\n\nIntermediate Coed 4's\nTBD\nTBD\n\n\nIntermediate Coed
  4's \nMATHEW\nWHITING\n\n\nIntermediate Coed 4's \npete\ncannon\n\n\nIn
 termediate Coed 4's \ncameron \nbraken\n\n\nIntermediate Coed 4's \nliz
 \nszklany\n\n\nIntermediate Coed 4's\nRob\nNiertit\n\n\nIntermediate Coed 
 4's\nKarson\nBates\n\n\nIntermediate Coed 4's\nZack\nCalabrese\n\n\nInterm
 ediate Coed 4's\nClark\nBurris\n\n\n\n\n\n\nIntermediate Coed 4's \nMatt\
 nBurgos\n\n\nIntermediate Coed 4's \nSolen\n\n\n\nIntermediate Coed 4's 
 \nKrubell\n\n\n\nIntermediate Coed 4's \nKristen\nBurgos\n\n\nIntermediat
 e Coed 4's\nJohn\nK\n\n\nIntermediate Coed 4's\nBrooke\nEngland\n\n\nInter
 mediate Coed 4's\nDs\nBonacci\n\n\nIntermediate Coed 4's\nTbd\nTbd\n\n\nIn
 termediate Coed 4's \nAmanda\nZetah\n\n\nIntermediate Coed 4's \nBrittan
 y\nVanno\n\n\nIntermediate Coed 4's \nTeddy\nMonteVerde\n\n\nIntermediate
  Coed 4's \nVolleyball\nPlayer\n\n\n\n\n\n\nIntermediate Coed 4's\nGracie
 \nJ\n\n\nIntermediate Coed 4's\nRainier\nG\n\n\nIntermediate Coed 4's\nKar
 a\n\n\n\nIntermediate Coed 4's\nKenny\nC\n\n\n\n\n\n\nIntermediate Coed 4'
 s \nKaren\nAdams\n\n\nIntermediate Coed 4's \nSteve\nAshman\n\n\nInterme
 diate Coed 4's \nTBD\nTBD\n\n\nIntermediate Coed 4's \nMike\nAdams\n\n\n
 Intermediate Coed 4's\nMike\nShade\n\n\nIntermediate Coed 4's\nTBD\nTBD\n\
 n\nIntermediate Coed 4's\nTBD\nTBD\n\n\nIntermediate Coed 4's\nTBD\nTBD\n\
 n\n\n&nbsp\;\n\n\n\nUpper Intermediate Coed 4's \nDee\n\n\n\nUpper Interm
 ediate Coed 4's \nGraham\n\n\n\nUpper Intermediate Coed 4's \nEvan \n\n
 \n\nUpper Intermediate Coed 4's \nCooper\n\n\n\nUpper Intermediate Coed 4
 's\nShelb\nDawg\n\n\nUpper Intermediate Coed 4's\nBacardi\nParty\n\n\nUppe
 r Intermediate Coed 4's\nMel’s\nBananas\n\n\nUpper Intermediate Coed 4's
 \nCarl\nLongshlong\n\n\n\n\n\n\nUpper Intermediate Coed 4's \nDeclan\n\n\
 n\nUpper Intermediate Coed 4's \nTbd\n\n\n\nUpper Intermediate Coed 4's 
 \nSam\n\n\n\nUpper Intermediate Coed 4's \nAndrew\n\n\n\nUpper Intermedia
 te Coed 4's\nTBD\nHursey\n\n\nUpper Intermediate Coed 4's\nTBD\nHursey\n\n
 \nUpper Intermediate Coed 4's\nScott\nB\n\n\nUpper Intermediate Coed 4's\n
 Chad\nHursey\n\n\nUpper Intermediate Coed 4's \nRicky\nHughson \n\n\nUpp
 er Intermediate Coed 4's \nBrit\nP\n\n\nUpper Intermediate Coed 4's \nMa
 rk\nHalecki\n\n\nUpper Intermediate Coed 4's \nJeff\nKnapp\n\n\n\n\n\n\nU
 pper Intermediate Coed 4's\nJack\n\n\n\nUpper Intermediate Coed 4's\nTim\n
 Haack\n\n\nUpper Intermediate Coed 4's\nMatt\nZaccardo\n\n\nUpper Intermed
 iate Coed 4's\nJulia\n\n\n\nUpper Intermediate Coed 4's \nLauren\nMulvern
 a\n\n\nUpper Intermediate Coed 4's \nBen\nMetzger\n\n\nUpper Intermediate
  Coed 4's \nZach\nBrown\n\n\nUpper Intermediate Coed 4's \nBruce \nInge
 rsoll\n\n\n\n\n\n\nUpper Intermediate Coed 4's\nTBD\nX\n\n\nUpper Intermed
 iate Coed 4's\nSheldon\nSwift\n\n\nUpper Intermediate Coed 4's\nTBD\nZ\n\n
 \nUpper Intermediate Coed 4's\nTBD\nY\n\n\nUpper Intermediate Coed 4's \n
 Mark\nReynolds\n\n\nUpper Intermediate Coed 4's \nTBD\nThree\n\n\nUpper I
 ntermediate Coed 4's \nTBD\nTWO\n\n\nUpper Intermediate Coed 4's \nTBD\n
 One\n\n\n\n\n\n\nUpper Intermediate Coed 4's\nRachel\nHolmes\n\n\nUpper In
 termediate Coed 4's\nAdam\nDake\n\n\nUpper Intermediate Coed 4's\nChrista\
 nMickol\n\n\nUpper Intermediate Coed 4's\nAlex\nBethman\n\n\nUpper Interme
 diate Coed 4's \nNick\nTartaglia\n\n\nUpper Intermediate Coed 4's \nChau
 \nChau\n\n\nUpper Intermediate Coed 4's \nDanielle\nChipre\n\n\nUpper Int
 ermediate Coed 4's \nTom\nChamberlain\n\n\n\n&nbsp\;\n\n\n\nEuchre Tourna
 ment\nTanios\nS\n\n\nEuchre Tournament\nAlexa\nS\n\n\nEuchre Tournament\nT
 J\nTortatice\n\n\nEuchre Tournament\nMelissa’s\nDad\n\n\nEuchre Tourname
 nt\nMelissa’s\nMom\n\n\nEuchre Tournament\nMelissa’s\nSister\n\n\nEuch
 re Tournament\nConner\nODonoghue\n\n\n\n\n\n\nEuchre Tournament\nShaun\nTu
 rner\n\n\nEuchre Tournament\nJenna\nSmith\n\n\n\n\n\n\nEuchre Tournament\n
 Cherisse\nLambiase\n\n\n\n\n\n\nEuchre Tournament\nTracy\nLyman\n\n\n\n\n\
 n\nEuchre Tournament\nAngry\nRay\n\n\n\n\n\n\nEuchre Tournament\nQuisha\nS
 antos\n\n\n\n\n\n\nEuchre Tournament\nKim\nEichas\n\n\nEuchre Tournament\n
 Monica\nBrower\n\n\n\n\n\n\nEuchre Tournament\n\n\n\n\nEuchre Tournament\n
 Marc\nMitrano\n\n\n\n\n\n\nEuchre Tournament\nJillian\nRicci\n\n\nEuchre T
 ournament\nLynn\nSorel\n\n\n\n&nbsp\;\n\n&nbsp\;\n\n&nbsp\;\n\n&nbsp\;\n\n
 &nbsp\;\n\n&nbsp\;\n\n&nbsp\;\n\n&nbsp\;\n\n&nbsp\;\n\n&nbsp\;\n\n&nbsp\;
LOCATION:Hotshots Volleyball Club\, 1046 University Ave\, Rochester\, NY\, 
 14607\, United States
GEO:43.1524262;-77.57341910000002
X-APPLE-STRUCTURED-LOCATION;VALUE=URI;X-ADDRESS=1046 University Ave\, Roche
 ster\, NY\, 14607\, United States;X-APPLE-RADIUS=100;X-TITLE=Hotshots Voll
 eyball Club:geo:43.1524262,-77.57341910000002
END:VEVENT
BEGIN:VTIMEZONE
TZID:America/New_York
X-LIC-LOCATION:America/New_York
BEGIN:DAYLIGHT
DTSTART:20260308T030000
TZOFFSETFROM:-0500
TZOFFSETTO:-0400
TZNAME:EDT
END:DAYLIGHT
END:VTIMEZONE
END:VCALENDAR