BEGIN:VCALENDAR
VERSION:2.0
PRODID:-//wp-events-plugin.com//7.0.4//EN
TZID:America/New_York
X-WR-TIMEZONE:America/New_York
BEGIN:VEVENT
UID:3992@novaeventmanagement.com
DTSTART;TZID=America/New_York:20260502T083000
DTEND;TZID=America/New_York:20260502T160000
DTSTAMP:20260421T140101Z
URL:https://www.novaeventmanagement.com/events/cobbs-hill-grass-4s-7/
SUMMARY:Cobbs Hill Grass 4's
DESCRIPTION:Rain Date if needed is May 9th\n\nPlease text the NOVA phone if
  you have any player changes!!! (585) 233-4243\n\n&nbsp\;\n\nAll New!!! Wo
 men's 4's division!!!\n\n&nbsp\;\n\nOutdoor Volleyball is Back! We're happ
 y to offer 4's Divisions at the Recreational\, Intermediate\, Women's\, an
 d Advanced level this Saturday at the beautiful Cobb's Hill Park. Check-in
  will begin at 8:00 am with the first serves happening at 9. Get outside a
 nd play some great volleyball with a chance to win some great prizes too. 
 We look forward to seeing you all there!\n\n&nbsp\;\n\nThe NOVA Fee is req
 uired for this event.\n\n&nbsp\;\n\nContact: https://www.hotshotsvball.co
 m/contact/\nRules and Guidelines (skill level format and refund policy): 
 https://www.hotshotsvball.com/rules-and-guidelines/\nTeams as of: 4/21\n\n
 \n\nAdvanced 4's\nNick\nTart\n\n\nAdvanced 4's\nPaul\nFillion\n\n\nAdvance
 d 4's\nGriffin\nMonrad\n\n\nAdvanced 4's\nMoises\nJimenez\n\n\nAdvanced 4'
 s \nLuke\nSullivan\n\n\nAdvanced 4's \nAvery\nK\n\n\nAdvanced 4's \nDyl
 an\nL\n\n\nAdvanced 4's \nLuke\nZim\n\n\n\n\n\n\nAdvanced 4's\nEddie\nDao
 reuang\n\n\nAdvanced 4's\nTim\nFerriter\n\n\nAdvanced 4's\nZach\nSchneider
 \n\n\nAdvanced 4's\nKyle\nZelasko\n\n\n\n\n\n\nAdvanced 4's \nJosh\nBigfo
 rd\n\n\nAdvanced 4's \nMike\nVoelkl\n\n\nAdvanced 4's \nTrent\nCaviness\
 n\n\nAdvanced 4's \nTrevor\nCaviness\n\n\nAdvanced 4's \nAdam\nDake\n\n\
 n\n\n\n\nAdvanced 4's\njack\nrooney\n\n\nAdvanced 4's\nlucas\npynn\n\n\nAd
 vanced 4's\nethan\nweislo\n\n\nAdvanced 4's\ncam\nmilligan\n\n\n\n\n\n\nAd
 vanced 4's \nJack \nBittker\n\n\nAdvanced 4's \nDan \nMarcy\n\n\nAdvan
 ced 4's \nEric \nHetzke\n\n\nAdvanced 4's \nPaul\nHackford\n\n\n\n&nbsp
 \;\n\n\n\nWomen's Advanced 4's\nTessa\nG\n\n\nWomen's Advanced 4's\nJasmin
 e\nB\n\n\nWomen's Advanced 4's\n\nBraelyn\n\n\nWomen's Advanced 4's\nKara\
 nZ\n\n\n\n&nbsp\;\n\n\n\nIntermediate 4's \nTeagan\nMoore\n\n\nIntermedia
 te 4's \nMeadow \nBerube\n\n\nIntermediate 4's \nKalyna \nDannenberg\n
 \n\nIntermediate 4's \nAudrey\nVogt\n\n\nIntermediate 4's\nDakota\nMorris
 on\n\n\nIntermediate 4's\nAlex\nJohnson\n\n\nIntermediate 4's\nVal\nVanHoe
 sen\n\n\nIntermediate 4's\nCalvin\nGonzalez\n\n\nIntermediate 4's \nAngry
  Raymond\n\n\n\nIntermediate 4's \nManny\n\n\n\nIntermediate 4's \nDonni
 e\n\n\n\nIntermediate 4's \nSam \nHoldredge\n\n\n\n\n\n\nIntermediate 4'
 s\nKaden\nTaylor\n\n\nIntermediate 4's\nCaitlin\nClaeys\n\n\nIntermediate 
 4's\nTBD\n\n\n\nIntermediate 4's\nTBD\n\n\n\n\n\n\n\nIntermediate 4's \nM
 att\nCoffey\n\n\nIntermediate 4's \nGraham\nLove\n\n\nIntermediate 4's \
 nAaron\nN\n\n\nIntermediate 4's \nMark\nH\n\n\nIntermediate 4's\nKam\nBra
 cken\n\n\nIntermediate 4's\nPat\nWilliams\n\n\nIntermediate 4's\nJake\nJak
 e\n\n\nIntermediate 4's\nKarson\nBates\n\n\nIntermediate 4's \nTBD\n\n\n\
 nIntermediate 4's \nRyan\nKong\n\n\nIntermediate 4's \nKevin\nKaznica\n\
 n\nIntermediate 4's \nTBD\n\n\n\nIntermediate 4's\nSean\nFleming\n\n\nInt
 ermediate 4's\nDeclan\nClaeys\n\n\nIntermediate 4's\nBen\nNagle\n\n\nInter
 mediate 4's\nRaylynn\nRyan\n\n\n\n\n\n\nIntermediate 4's \nRicky\nHughson
 \n\n\nIntermediate 4's \nDavid\nMarriott\n\n\nIntermediate 4's \nAngelo\
 nCostanza\n\n\nIntermediate 4's \nGuido\nCristofori\n\n\n\n\n\n\nIntermed
 iate 4's\nJeff\nWilson\n\n\nIntermediate 4's\nPat\nBigham\n\n\nIntermediat
 e 4's\nAustin\nWestrich\n\n\nIntermediate 4's\nKaily\nLa Force\n\n\nInterm
 ediate 4's \nCarter\nPete\n\n\nIntermediate 4's \nTommy\nDunn\n\n\nInter
 mediate 4's \nGracie\nJacobs \n\n\nIntermediate 4's \nJacob \nChen\n\n
 \n\n\n\n\nIntermediate 4's\nTBD\nTBD\n\n\nIntermediate 4's\nBrian\nWitt\n\
 n\nIntermediate 4's\nMark\nHeiler\n\n\nIntermediate 4's\nTBD\nTBD\n\n\nInt
 ermediate 4's \nMatthew\nGunderson\n\n\nIntermediate 4's \nMark\nThayer\
 n\n\nIntermediate 4's \nJeremy\nCrane\n\n\nIntermediate 4's \nPaige\nRee
 d\n\n\n\n\n\n\nIntermediate 4's\nCody\nBadger\n\n\nIntermediate 4's\nSean\
 nFrawley\n\n\nIntermediate 4's\nBen\nMcHerron\n\n\nIntermediate 4's\nKelle
 n\nConway\n\n\nIntermediate 4's \nJoe\nFiandach\n\n\nIntermediate 4's \n
 Seth\nWarren\n\n\nIntermediate 4's \nNicole\nRivera\n\n\nIntermediate 4's
  \nMatt\nZarzycki\n\n\nIntermediate 4's\nJonathan\nCostain\n\n\nIntermedi
 ate 4's\nJoshua\nAnderson\n\n\nIntermediate 4's\nJoshua\nKima\n\n\nInterme
 diate 4's\nJaden\nHelbig\n\n\nIntermediate 4's \nKelly\nBurke\n\n\nInterm
 ediate 4's \nAnother\nFriend\n\n\nIntermediate 4's \nDylan\nRock\n\n\nIn
 termediate 4's \nLiz\nWunder\n\n\n\n\n\n\nIntermediate 4's\nRainier\nG\n\
 n\nIntermediate 4's\nTBD\n\n\n\nIntermediate 4's\nTBD\n\n\n\nIntermediate 
 4's\nJill\nG\n\n\nIntermediate 4's \nCooper\nMehlenbacher\n\n\nIntermedia
 te 4's \nKenny\nCurtin\n\n\nIntermediate 4's \nSam\nZ\n\n\nIntermediate 
 4's \nSam\nG\n\n\nIntermediate 4's\nEvan\nShaughnessy\n\n\nIntermediate 4
 's\nAlissa\nBorlaug\n\n\nIntermediate 4's\nTBD\n\n\n\nIntermediate 4's\nTB
 D\n\n\n\n\n\n\n\nIntermediate 4's \nBryan\nLam\n\n\nIntermediate 4's \nL
 uke\nM\n\n\nIntermediate 4's \nTbd\nTBD \n\n\nIntermediate 4's \nSteven
 \nH\n\n\nIntermediate 4's\nMonica\nB\n\n\nIntermediate 4's\nSeth\nW\n\n\nI
 ntermediate 4's\nKamren\nR\n\n\nIntermediate 4's\nMary\nW\n\n\nIntermediat
 e 4's \nSophie\nColatoy\n\n\nIntermediate 4's \nsebastian\nrebolledo\n\n
 \nIntermediate 4's \nQuan\n\n\n\nIntermediate 4's \nCal\nBawdin\n\n\n\n\
 n\n\nIntermediate 4's\nBenjamin\nHarrington\n\n\nIntermediate 4's\nAndy\nF
 eng Chen\n\n\nIntermediate 4's\nLogan\nSimon\n\n\nIntermediate 4's\nTaylor
 \nFerguson\n\n\n\n\n\n\nIntermediate 4's \nTyler \nH\n\n\nIntermediate 4
 's \nLiam \nS\n\n\nIntermediate 4's \nAustin \nC\n\n\nIntermediate 4's
  \nChloe \nM\n\n\nIntermediate 4's\nZack\nCal\n\n\nIntermediate 4's\nDee
 \nFrank\n\n\nIntermediate 4's\nJilly\nVC Garvey\n\n\nIntermediate 4's\nWes
 ley\nSnipers\n\n\n\n\n\n\nIntermediate 4's \nJack\nDonovan\n\n\nIntermedi
 ate 4's \nDominick\nAlvarado\n\n\nIntermediate 4's \nCole\nThomas\n\n\nI
 ntermediate 4's \nAaron \nHennessy \n\n\n\n&nbsp\;\n\n\n\nRecreation 4'
 s\nGabe\nRodriguez\n\n\nRecreation 4's\nSam\nBenzakein\n\n\nRecreation 4's
 \nColin\nWard\n\n\nRecreation 4's\nJon\nSparling\n\n\nRecreation 4's \nBi
 ll\nMelick\n\n\nRecreation 4's \nHunter\nDeLyser\n\n\nRecreation 4's \nJ
 ackson\nTaylor\n\n\nRecreation 4's \nRoman\nSt. Croix\n\n\nRecreation 4's
 \nBrian\nCizenski\n\n\nRecreation 4's\nTristan\nW\n\n\nRecreation 4's\nMik
 e\nB\n\n\nRecreation 4's\nKim\nW\n\n\n\n\n\n\nRecreation 4's \nTheresa \
 nBarrett \n\n\nRecreation 4's \nZach\nHouk \n\n\nRecreation 4's \nSamm
 y\nHouk\n\n\nRecreation 4's \nChris \nWilliams \n\n\n\n\n\n\nRecreation
  4's\nNick\nD’Imperio\n\n\nRecreation 4's\nEmily\nReese\n\n\nRecreation 
 4's\nMax\nWeissman\n\n\nRecreation 4's\nLaura\nDorsett\n\n\nRecreation 4's
  \nJon\nSuhre\n\n\nRecreation 4's \nTBD\n\n\n\nRecreation 4's \nTBD\n\n
 \n\nRecreation 4's \nEvan\nAkine\n\n\nRecreation 4's\nLachlan\nHamway\n\n
 \nRecreation 4's\nSimon\nHsu\n\n\nRecreation 4's\nSean\nHartman\n\n\nRecre
 ation 4's\nLukas\nVan Harken\n\n\n\n\n\n\nRecreation 4's \nKristiana \nS
 tockton\n\n\nRecreation 4's \nKarl\nDaningburg\n\n\nRecreation 4's \nTBD
 \n\n\n\nRecreation 4's \nTBD\n\n\n\n\n\n\n\nRecreation 4's\nScooter\nBoot
 er\n\n\nRecreation 4's\nManuel\nPena\n\n\nRecreation 4's\nQuisha\nSanto\n\
 n\nRecreation 4's\nBuick\nWalton\n\n\n\n\n\n\nRecreation 4's \nZane “Bu
 tter”\nMinguez\n\n\nRecreation 4's \nBryan “Gear 5”\nMinguez\n\n\nR
 ecreation 4's \nJaime\nMinguez\n\n\nRecreation 4's \nZander “The Shove
 l”\nMinguez\n\n\nRecreation 4's\nAndrew\nChiang\n\n\nRecreation 4's\nAle
 x\nHaag\n\n\nRecreation 4's\nCoty\nPatrizi\n\n\nRecreation 4's\nTBD\n\n\n\
 nRecreation 4's \nJoe\nDoty\n\n\nRecreation 4's \nTBD\nTBD\n\n\nRecreati
 on 4's \nDan\nBlocker\n\n\nRecreation 4's \nKenny\nVaccaro\n\n\n\n\n\n\n
 Recreation 4's\nMax\nQuan\n\n\nRecreation 4's\nKeevin\nShort\n\n\nRecreati
 on 4's\nSidra\nMorchower\n\n\nRecreation 4's\nDavis\nLe\n\n\nRecreation 4'
 s \nKyle\nTruong \n\n\nRecreation 4's \nKellen\nB\n\n\nRecreation 4's 
 \nCJ\nM\n\n\nRecreation 4's \nEmmett\nH\n\n\nRecreation 4's \nJack\nH\n\
 n\nRecreation 4's\nDerek\nSigler\n\n\nRecreation 4's\nLucas\nKielon\n\n\nR
 ecreation 4's\nCam\nWebb\n\n\nRecreation 4's\nVictoria\nGras\n\n\n\n\n\n\n
 Recreation 4's \nAli\nFujiyoshi \n\n\nRecreation 4's \nBrittani \nMess
 mer\n\n\nRecreation 4's \nZach\nDunbar\n\n\nRecreation 4's \nMakenna\nWi
 ljanen \n\n\n\n\n\n\nRecreation 4's\nJonathan\nKlipfel\n\n\nRecreation 4'
 s\nTammy\nGarcia-Klipfel\n\n\nRecreation 4's\nIan\nRoeloffs\n\n\nRecreatio
 n 4's\nMadelyn\nRoeloffs\n\n\nRecreation 4's \nMatt\nSant Miller\n\n\nRec
 reation 4's \nNate\nSwings\n\n\nRecreation 4's \nLucas\nGalliano\n\n\nRe
 creation 4's \nMichael\nAsselin\n\n\n\n&nbsp\;\n\n&nbsp\;\n\n&nbsp\;\n\n&
 nbsp\;\n\n&nbsp\;\n\n&nbsp\;\n\n&nbsp\;\n\n&nbsp\;\n\n&nbsp\;\n\n&nbsp\;\n
 \n&nbsp\;\n\n&nbsp\;\n\n&nbsp\;
LOCATION:Cobbs Hill Park\, 80 Culver Road\, Rochester\, NY\, 14610\, City o
 f Rochester\, United States
GEO:43.13974;-77.57278500000001
X-APPLE-STRUCTURED-LOCATION;VALUE=URI;X-ADDRESS=80 Culver Road\, Rochester\
 , NY\, 14610\, City of Rochester\, United States;X-APPLE-RADIUS=100;X-TITL
 E=Cobbs Hill Park:geo:43.13974,-77.57278500000001
END:VEVENT
BEGIN:VTIMEZONE
TZID:America/New_York
X-LIC-LOCATION:America/New_York
BEGIN:DAYLIGHT
DTSTART:20260308T030000
TZOFFSETFROM:-0500
TZOFFSETTO:-0400
TZNAME:EDT
END:DAYLIGHT
END:VTIMEZONE
END:VCALENDAR