BEGIN:VCALENDAR
VERSION:2.0
PRODID:-//wp-events-plugin.com//7.0.4//EN
TZID:America/New_York
X-WR-TIMEZONE:America/New_York
BEGIN:VEVENT
UID:3993@novaeventmanagement.com
DTSTART;TZID=America/New_York:20260502T083000
DTEND;TZID=America/New_York:20260502T160000
DTSTAMP:20260421T135925Z
URL:https://www.novaeventmanagement.com/events/cobbs-hill-jrs-boys-and-gir
 ls-grass-4s-5/
SUMMARY:Cobbs Hill Jr's Boys and Girls Grass 4's
DESCRIPTION:Rain Date if needed is May 9th\n\nOutdoor Volleyball is Back! W
 e're happy to offer 4's Divisions for our juniors this Saturday at the bea
 utiful Cobb's Hill Park. Check-in will begin at 8:30 am with the first ser
 ves happening at 9. Get outside and play some great volleyball with a chan
 ce to win some great prizes too. We look forward to seeing you all there! 
 We will be located by the pond and 490.\n\nTeams as of: 4/21\n\n\n\nJunior
  Boys 4's  14u\nBennett\nMelick\n\n\nJunior Boys 4's  14u\nOzzy\nBlake\n
 \n\nJunior Boys 4's  14u\nZach\nJemetz\n\n\nJunior Boys 4's  14u\nDesmon
 d\nJones\n\n\nJunior Boys 4's  14u\nCarson\nBowers\n\n\nJunior Boys 4's 
  14u\nCole\nCrahen\n\n\nJunior Boys 4's  14u\nRyan\nMacke\n\n\nJunior Boy
 s 4's  14u\nNathan\nNguyen\n\n\n\n&nbsp\;\n\n\n\nJuniors Boys 18u 4's\nEl
 i\nThompson\n\n\nJuniors Boys 18u 4's\nSam\nTreasure\n\n\nJuniors Boys 18u
  4's\nAdrian\nLee\n\n\nJuniors Boys 18u 4's\nBrody\nMorrill\n\n\n\n&nbsp\;
 \n\n\n\nJunior Girls 4's 14u\nAria\nNewcombe\n\n\nJunior Girls 4's 14u\nKa
 elyn \nRich\n\n\nJunior Girls 4's 14u\nLauren \nS\n\n\nJunior Girls 4's 
 14u\nSydney \nWest\n\n\n\n&nbsp\;\n\n&nbsp\;
LOCATION:Cobbs Hill Park\, 80 Culver Road\, Rochester\, NY\, 14610\, City o
 f Rochester\, United States
GEO:43.13974;-77.57278500000001
X-APPLE-STRUCTURED-LOCATION;VALUE=URI;X-ADDRESS=80 Culver Road\, Rochester\
 , NY\, 14610\, City of Rochester\, United States;X-APPLE-RADIUS=100;X-TITL
 E=Cobbs Hill Park:geo:43.13974,-77.57278500000001
END:VEVENT
BEGIN:VTIMEZONE
TZID:America/New_York
X-LIC-LOCATION:America/New_York
BEGIN:DAYLIGHT
DTSTART:20260308T030000
TZOFFSETFROM:-0500
TZOFFSETTO:-0400
TZNAME:EDT
END:DAYLIGHT
END:VTIMEZONE
END:VCALENDAR