BEGIN:VCALENDAR
VERSION:2.0
PRODID:-//wp-events-plugin.com//7.0.4//EN
TZID:America/New_York
X-WR-TIMEZONE:America/New_York
BEGIN:VEVENT
UID:52@novaeventmanagement.com
DTSTART;TZID=America/New_York:20141130T083000
DTEND;TZID=America/New_York:20141130T160000
DTSTAMP:20141128T215412Z
URL:https://www.novaeventmanagement.com/events/hard-court-4-2-coed-11-30-1
 4-sat/
SUMMARY:Hard Court 4 -2 Coed 11-30-14 (Sat)
DESCRIPTION:\n\nOnline registration is now closed.  We still have a few mo
 re spots left\, so give Hot Shots a call for availability!!!!\n\nTo end th
 is month\, we have a volleyball tournament that’s a little different tha
 n normal for you. It’s called a 4-2 Coed hard court tournament. How it w
 orks\, is there are 4 guys and 2 girls on every team playing on a men’s 
 net. You can already bet that Roger went through and grabbed his stud GCC 
 players. So see who you can find to beat up on his team and get signed up.
  If you are too worried about getting beat up by someone with ½ a hip\, w
 e do have an intermediate division. It’s the same rules as regular hard 
 court 6’s. We can only take 15 teams\, so make sure to register soon so 
 you are not left out!!!\n\n&nbsp\;
LOCATION:Hotshots Volleyball Club\, 1046 University Ave\, Rochester\, NY\, 
 14607\, United States
GEO:43.1524262;-77.57341910000002
X-APPLE-STRUCTURED-LOCATION;VALUE=URI;X-ADDRESS=1046 University Ave\, Roche
 ster\, NY\, 14607\, United States;X-APPLE-RADIUS=100;X-TITLE=Hotshots Voll
 eyball Club:geo:43.1524262,-77.57341910000002
END:VEVENT
BEGIN:VTIMEZONE
TZID:America/New_York
X-LIC-LOCATION:America/New_York
BEGIN:STANDARD
DTSTART:20141102T010000
TZOFFSETFROM:-0400
TZOFFSETTO:-0500
TZNAME:EST
END:STANDARD
END:VTIMEZONE
END:VCALENDAR