BEGIN:VCALENDAR
VERSION:2.0
PRODID:-//wp-events-plugin.com//7.0.4//EN
TZID:America/New_York
X-WR-TIMEZONE:America/New_York
BEGIN:VEVENT
UID:3343@novaeventmanagement.com
DTSTART;TZID=America/New_York:20220618T083000
DTEND;TZID=America/New_York:20220618T163000
DTSTAMP:20220618T115907Z
URL:https://www.novaeventmanagement.com/events/mens-womens-open-int-2s-3/
SUMMARY:Men's & Women's Open/Int 2's
DESCRIPTION:What a better way to spend Father's Day weekend than playing so
 me beach volleyball. Especially if you have plans for Sunday already. So\,
  bring the whole family down and plan on a fun filled day of volleyball at
  the beach. Hey who knows. If you end up winning. There's your gift for yo
 ur father. 2 birds with 1 stone. Check in will begin by 8am. We will be st
 arting things off by 8:30. The NOVA Fee is required for this event.\n\n&nb
 sp\;\n\n\n\nMen's Advanced 2's\nJake\nBliss\n\n\nMen's Advanced 2's\nAndre
 w\nWinkleman\n\n\nMen's Advanced 2's \nKeith\nWhite\n\n\nMen's Advanced 2
 's \nRandy\nBittner\n\n\nMen's Advanced 2's\nShaun\nTurner\n\n\nMen's Adv
 anced 2's\nMike\nCoburn\n\n\nMen's Advanced 2's \nCj\nDenk\n\n\nMen's Adv
 anced 2's \nJake\nGleason\n\n\nMen's Advanced 2's\nBryan\nEckler\n\n\nMen
 's Advanced 2's\nMike\nEllison\n\n\nMen's Advanced 2's \nMike\nKrueger\n\
 n\nMen's Advanced 2's \nCam\nMilligan\n\n\nMen's Advanced 2's\nStefan\nMi
 ckol\n\n\nMen's Advanced 2's\nZach\nSchneider\n\n\nMen's Advanced 2's \nR
 obert\nEvangelista\n\n\nMen's Advanced 2's \nParker\nSchoenel\n\n\nMen's 
 Intermediate 2's\nErik\nDechow\n\n\nMen's Intermediate 2's\nMitch\nSegbers
 \n\n\nMen's Intermediate 2's \nAlex\nJohnson\n\n\nMen's Intermediate 2's
  \nNick\nWynne\n\n\nMen's Intermediate 2's\nTyler\nShicks\n\n\nMen's Inte
 rmediate 2's\nNick\nLupo\n\n\nMen's Intermediate 2's \nTim\nHoang\n\n\nMe
 n's Intermediate 2's \nMatt \nWang\n\n\nMen's Intermediate 2's\nManny\nn
 /a\n\n\nMen's Intermediate 2's\nWes\nn/a\n\n\nMen's Intermediate 2's \nNa
 than\nHwang\n\n\nMen's Intermediate 2's \nWill\nHarvey\n\n\nWomen's Advan
 ced 2's\nSamantha\nBurgio\n\n\nWomen's Advanced 2's\nCaitlyn\nMeyer\n\n\nW
 omen's Advanced 2's \nChrista\nMickol\n\n\nWomen's Advanced 2's \nAlex\n
 Frank\n\n\nWomen's Advanced 2's\nCarson\nTyler\n\n\nWomen's Advanced 2's\n
 Kylie\nBlessing\n\n\nWomen's Advanced 2's \nDiana\nDiana\n\n\nWomen's Adv
 anced 2's \nAna\nAna\n\n\nWomen's Advanced 2's\nLily\nWitkoski\n\n\nWomen
 's Advanced 2's\nRiley\nBergeron\n\n\nWomen's Advanced 2's \nOlivia\nAles
 si\n\n\nWomen's Advanced 2's \nVanessa\nKuliga\n\n\nWomen's Advanced 2's
  \nDre\nn/a\n\n\nWomen's Advanced 2's \nTessa \nn/a\n\n\nWomen's Interm
 ediate 2's \nAbbey\nMuir\n\n\nWomen's Intermediate 2's \nBrit \nP\n\n\n
 Women's Intermediate 2's \nKylee\nBartlett\n\n\nWomen's Intermediate 2's
  \nDakota\nMorrison\n\n\nWomen's Intermediate 2's \nMonica\nBrower\n\n\n
 Women's Intermediate 2's \nLaura\nBryan\n\n\nWomen's Intermediate 2's\nSh
 ea\nNorton\n\n\nWomen's Intermediate 2's\nMary\nBochicchio\n\n\nWomen's In
 termediate 2's \nErin\nSchneider\n\n\nWomen's Intermediate 2's \nDina\nB
 rouse\n\n\n
ATTACH;FMTTYPE=image/jpeg:https://www.novaeventmanagement.com/wp-content/u
 ploads/2014/03/cropped-Nova_header1.jpg
LOCATION:Charlotte Beach \,  4650 Lake Avenue\, rochester\, ny\, 14612\, Mo
 nroe County\, United States
GEO:43.25526;-77.61039800000003
X-APPLE-STRUCTURED-LOCATION;VALUE=URI;X-ADDRESS= 4650 Lake Avenue\, rochest
 er\, ny\, 14612\, Monroe County\, United States;X-APPLE-RADIUS=100;X-TITLE
 =Charlotte Beach :geo:43.25526,-77.61039800000003
END:VEVENT
BEGIN:VTIMEZONE
TZID:America/New_York
X-LIC-LOCATION:America/New_York
BEGIN:DAYLIGHT
DTSTART:20220313T030000
TZOFFSETFROM:-0500
TZOFFSETTO:-0400
TZNAME:EDT
END:DAYLIGHT
END:VTIMEZONE
END:VCALENDAR